BEGIN:VCALENDAR
VERSION:2.0
PRODID:-//Judiska museet - ECPv6.4.0.1//NONSGML v1.0//EN
CALSCALE:GREGORIAN
METHOD:PUBLISH
X-WR-CALNAME:Judiska museet
X-ORIGINAL-URL:https://judiskamuseet.se
X-WR-CALDESC:Händelser för Judiska museet
REFRESH-INTERVAL;VALUE=DURATION:PT1H
X-Robots-Tag:noindex
X-PUBLISHED-TTL:PT1H
BEGIN:VTIMEZONE
TZID:Europe/Stockholm
BEGIN:DAYLIGHT
TZOFFSETFROM:+0100
TZOFFSETTO:+0200
TZNAME:CEST
DTSTART:20260329T010000
END:DAYLIGHT
BEGIN:STANDARD
TZOFFSETFROM:+0200
TZOFFSETTO:+0100
TZNAME:CET
DTSTART:20261025T010000
END:STANDARD
END:VTIMEZONE
BEGIN:VEVENT
DTSTART;TZID=Europe/Stockholm:20260507T180000
DTEND;TZID=Europe/Stockholm:20260507T190000
DTSTAMP:20260422T103419
CREATED:20260317T133719Z
LAST-MODIFIED:20260318T092339Z
UID:15583-1778176800-1778180400@judiskamuseet.se
SUMMARY:Lag baomer och chavruta
DESCRIPTION:Lag baomer är namnet på den judiska högtiden som infaller den 33:e dagen efter pesach. Vad firandet har för ursprung är egentligen inte helt tydligt\, men på ett eller annat vis är det kopplat till två legendariska rabbiner\, Rabbi Shimon bar Yoshi och Rabbi Akiva. Lag baomer firas på olika sätt: många gör utflykter i naturen eller tänder brasor och grillar. Vanligt är även att man passar på att gifta sig eller gå till frisören. Hur hänger allt detta ihop\, och vad har det att göra med den judiska mystiken\, kabbala? \nMed hjälp av chavruta\, det klassiska judiska sättet att studera texter på genom diskussion och dialog\, diskuterar vi lag b’omer och dess kopplingar till den judiska mystiken. Inga förkunskaper krävs\, bara nyfikenhet! \nTid: torsdag 7 maj\, kl.18-19\nPlats: Själagårdsgatan 19 i Gamla stan \nDeltagande i detta program: 120 kr ordinarie\, 100 kr pensionär och student.\nBoka biljett här! \nBild: Anna Riwkin-Brick med två oidentifierade män.Foto © Anna Riwkin/Moderna Museet. JUDF02485 ur Judiska museets samling.
URL:https://judiskamuseet.se/kalendarium/lag-baomer-och-chavruta/
CATEGORIES:Program
ATTACH;FMTTYPE=image/jpeg:https://judiskamuseet.se/wp-content/uploads/2026/03/JUDF02485-scaled.jpg
END:VEVENT
BEGIN:VEVENT
DTSTART;TZID=Europe/Stockholm:20260512T180000
DTEND;TZID=Europe/Stockholm:20260512T190000
DTSTAMP:20260422T103419
CREATED:20260416T131500Z
LAST-MODIFIED:20260420T082044Z
UID:15716-1778608800-1778612400@judiskamuseet.se
SUMMARY:"Så minns vi det judiska Värmland"
DESCRIPTION:För den som besöker Karlstad i dag finns nästan inga spår kvar av det rika judiska liv som en gång präglade staden. Många känner inte ens till att det en gång har funnits en synagoga här. Men under ungefär ett sekel – från mitten av 1800-talet till mitten av 1900-talet – var det judiska livet en självklar och levande del av Värmland. \nProgramkvällen är den första delen i en serie inom ramen för utställningen Det judiska Värmland. Denna programkväll möter vi Harry Beitner\, född i Karlstad\, och Eva Lecerof\, som kom till Sverige som liten genom en av kindertransporterna 1939. De delar med sig av egna minnen\, sina familjers berättelser och de historiska spår som ännu finns kvar. \nSamtalet leds av Natalie Bloch\, doktor i den hebreiska bibelns exegetik\, universitetslektor\, översättare och kulturskribent. \nTid: tisdag 12 maj\, kl. 18–19\nPlats: Själagårdsgatan 19 i Gamla stan \nDeltagande i detta program: 120 kr ordinarie\, 100 kr pensionär och student.\nAnmäl dig här! \nBild: Eva Lecerof\, foto: Cato Lein. Harry Beitner\, foto: © Harry Beitner. Natalie Bloch\, foto: Karl Gabor.
URL:https://judiskamuseet.se/kalendarium/sa-minns-vi-det-judiska-varmland/
CATEGORIES:Program,Samtal
ATTACH;FMTTYPE=image/png:https://judiskamuseet.se/wp-content/uploads/2026/04/12-maj.png
END:VEVENT
BEGIN:VEVENT
DTSTART;TZID=Europe/Stockholm:20260521T180000
DTEND;TZID=Europe/Stockholm:20260521T190000
DTSTAMP:20260422T103419
CREATED:20260317T141352Z
LAST-MODIFIED:20260317T141448Z
UID:15594-1779386400-1779390000@judiskamuseet.se
SUMMARY:Shavuot och chavruta
DESCRIPTION:Shavuot infaller sju veckor efter pesach och firas till minne av det judiska folkets mottagande av Toran vid Sinaiberget. Högtiden är en av de tre “pilgrimsfestivalerna” då man i det antika Israel vallfärdade till templet i Jerusalem. Shavuot firas traditionellt genom att mat som innehåller mjölk och ost\, men framför allt genom att studera Tora i från solnedgång till soluppgång\, ofta i synagogan. Vanligt är också att läsa Ruts bok. \nMed hjälp av chavruta\, det klassiska judiska sättet att studera texter på genom diskussion och dialog\, utforskar vi berättelsen om Rut och vad den har med shavuot att göra. Inga förkunskaper krävs\, bara nyfikenhet! \nTid: torsdag 21 maj\, kl.18-19\nPlats: Själagårdsgatan 19 i Gamla stan \nDeltagande i detta program: 120 kr ordinarie\, 100 kr pensionär och student.\nBoka biljett här! \nBild: De tio budorden på hebreiska i form av stentavlorna. Foto: Judiska museet. JUD00993 ur Judiska museets samling.
URL:https://judiskamuseet.se/kalendarium/shavuot-och-chavruta/
CATEGORIES:Program
ATTACH;FMTTYPE=image/png:https://judiskamuseet.se/wp-content/uploads/2026/03/JUD00993.png
END:VEVENT
BEGIN:VEVENT
DTSTART;TZID=Europe/Stockholm:20260526T180000
DTEND;TZID=Europe/Stockholm:20260526T190000
DTSTAMP:20260422T103419
CREATED:20260416T144001Z
LAST-MODIFIED:20260420T092424Z
UID:15723-1779818400-1779822000@judiskamuseet.se
SUMMARY:Det judiska Värmland
DESCRIPTION:Programkvällen är den andra delen i en serie inom ramen för utställningen Det judiska Värmland. Kvällen belyser både utställningens historiska innehåll och samarbetet mellan Värmlands museum\, där utställningen först visades i Karlstad\, och Judiska museet. \nMedverkande är Karin Åberg Waern\, utställningschef på Värmlands museum\, Marcus Rist\, vikarierande antikvarie på Judiska museet\, och Andreas Schein\, intendent för samling och utställning på Judiska museet. \nSamtalet leds av Natalie Bloch\, doktor i den hebreiska bibelns exegetik\, universitetslektor\, översättare och kulturskribent. \nTid: tisdag 26 maj\, kl. 18–19\nPlats: Själagårdsgatan 19 i Gamla stan \nDeltagande i detta program: 120 kr ordinarie\, 100 kr pensionär och student.\nAnmäl dig här! \nBild: Karin Åberg Waern\, foto: Lars Sjöqvist. Andreas Schein\, foto: privat arkiv. Marcus Rist\, foto: privat arkiv. Natalie Bloch\, foto: Karl Gabor.
URL:https://judiskamuseet.se/kalendarium/det-judiska-varmland/
CATEGORIES:Program,Samtal
ATTACH;FMTTYPE=image/jpeg:https://judiskamuseet.se/wp-content/uploads/2026/04/26-maj.jpg
END:VEVENT
END:VCALENDAR