BEGIN:VCALENDAR
VERSION:2.0
PRODID:-//Judiska museet - ECPv6.4.0.1//NONSGML v1.0//EN
CALSCALE:GREGORIAN
METHOD:PUBLISH
X-ORIGINAL-URL:https://judiskamuseet.se
X-WR-CALDESC:Händelser för Judiska museet
REFRESH-INTERVAL;VALUE=DURATION:PT1H
X-Robots-Tag:noindex
X-PUBLISHED-TTL:PT1H
BEGIN:VTIMEZONE
TZID:Europe/Stockholm
BEGIN:DAYLIGHT
TZOFFSETFROM:+0100
TZOFFSETTO:+0200
TZNAME:CEST
DTSTART:20260329T010000
END:DAYLIGHT
BEGIN:STANDARD
TZOFFSETFROM:+0200
TZOFFSETTO:+0100
TZNAME:CET
DTSTART:20261025T010000
END:STANDARD
END:VTIMEZONE
BEGIN:VEVENT
DTSTART;TZID=Europe/Stockholm:20260526T180000
DTEND;TZID=Europe/Stockholm:20260526T190000
DTSTAMP:20260423T200048
CREATED:20260416T144001Z
LAST-MODIFIED:20260423T074148Z
UID:15723-1779818400-1779822000@judiskamuseet.se
SUMMARY:Det judiska Värmland: att synliggöra ett förbisett kulturarv
DESCRIPTION:Hur kan judisk historia lyftas fram när så många synliga spår har försvunnit? Genom arbete i arkiv och samlingar och med hjälp av personliga berättelser har Värmlands Museum och Judiska museet tillsammans skapat utställningen Det judiska Värmland. Här synliggörs en del av Sveriges historia och kulturarv som länge varit marginaliserad och riskerat att falla i glömska. \nKvällen belyser hur samarbetet mellan museerna har öppnat nya vägar att berätta denna historia. Vad händer när lokalhistoria möter judisk kunskap och erfarenhet? Vilka berättelser blir möjliga – och varför är de viktiga idag? Programmet ger konkreta exempel från arbetet med utställningen och visar hur kulturarv kan breddas\, fördjupas och göras mer inkluderande. \nMedverkar gör Karin Åberg Waern\, utställningschef på Värmlands Museum\, Marcus Rist\, vikarierande antikvarie på Judiska museet\, och Andreas Schein\, intendent för samling och utställning på Judiska museet. \nSamtalet leds av Natalie Bloch\, doktor i den hebreiska bibelns exegetik\, universitetslektor\, översättare och kulturskribent. \nTid: tisdag 26 maj\, kl. 18–19\nPlats: Själagårdsgatan 19 i Gamla stan \nDeltagande i detta program: 120 kr ordinarie\, 100 kr pensionär och student.\nAnmäl dig här! \nBild: Den judiska synagogan på Norra Klaragatan 5 i Karlstad. Invigdes 1899. Foto ur Judiska museets samling.
URL:https://judiskamuseet.se/kalendarium/det-judiska-varmland/
CATEGORIES:Program,Samtal
ATTACH;FMTTYPE=image/png:https://judiskamuseet.se/wp-content/uploads/2026/04/26-maj-2.png
END:VEVENT
END:VCALENDAR