BEGIN:VCALENDAR
VERSION:2.0
PRODID:-//Judiska museet - ECPv6.4.0.1//NONSGML v1.0//EN
CALSCALE:GREGORIAN
METHOD:PUBLISH
X-WR-CALNAME:Judiska museet
X-ORIGINAL-URL:https://judiskamuseet.se
X-WR-CALDESC:Händelser för Judiska museet
REFRESH-INTERVAL;VALUE=DURATION:PT1H
X-Robots-Tag:noindex
X-PUBLISHED-TTL:PT1H
BEGIN:VTIMEZONE
TZID:Europe/Stockholm
BEGIN:DAYLIGHT
TZOFFSETFROM:+0100
TZOFFSETTO:+0200
TZNAME:CEST
DTSTART:20260329T010000
END:DAYLIGHT
BEGIN:STANDARD
TZOFFSETFROM:+0200
TZOFFSETTO:+0100
TZNAME:CET
DTSTART:20261025T010000
END:STANDARD
END:VTIMEZONE
BEGIN:VEVENT
DTSTART;TZID=Europe/Stockholm:20260129T180000
DTEND;TZID=Europe/Stockholm:20260129T190000
DTSTAMP:20260425T174528
CREATED:20260112T131351Z
LAST-MODIFIED:20260115T082608Z
UID:15367-1769709600-1769713200@judiskamuseet.se
SUMMARY:Synagogan genom tid och rum
DESCRIPTION:Synagogor har genom historien varit mer än platser för gudstjänst. De har varit rum där gemenskap\, lärande\, musik och vardagsliv tagit form\, präglade av både tradition och de samhällen där de vuxit fram. \nI detta samtal står synagogan i centrum som både fysisk och social miljö. Hur har judiska rum sett ut\, hur har de använts och hur har de förändrats över tid på olika platser i Sverige? Med arkitektur\, historia och praktik som ingång utforskas hur historiska skeenden och lokala sammanhang satt avtryck i synagogans utformning och funktion. Genom exempel från olika delar av landet lyfts mötet mellan plats\, historia och levt judiskt liv. \nMedverkar gör Svante Helmbæk Tirén\, konsthistoriker\, skribent och curator samt intendent för samlingar och forskning vid Konstakademien\, och Daniel Leviathan\, utbildad arkeolog och doktorand i judiska studier vid Lunds universitet med en pågående avhandling om svenska synagogor. Samtalet leds av Natalie Bloch\, doktor i hebreiska bibeln\, universitetslektor\, översättare och kulturskribent. \nTid: torsdag 29 januari\, kl. 18–19\nPlats: Själagårdsgatan 19 i Gamla stan \nDeltagande i detta program: 120 kr ordinarie\, 100 kr pensionär och student.\nAnmäl dig här! \nBild: Synagogan i gamla stan\, foto: Jean-Baptiste Béranger. Svante Helmbæk Tirén\, foto: privat arkiv\, Daniel Leviathan © Lunds universitet\, Natalie Bloch\, foto: Karl Gabor.
URL:https://judiskamuseet.se/kalendarium/synagogan-genom-tid-och-rum/
CATEGORIES:Samtal
ATTACH;FMTTYPE=image/png:https://judiskamuseet.se/wp-content/uploads/2026/01/29-jan-v2.png
END:VEVENT
END:VCALENDAR