BEGIN:VCALENDAR
VERSION:2.0
PRODID:-//Judiska museet - ECPv6.4.0.1//NONSGML v1.0//EN
CALSCALE:GREGORIAN
METHOD:PUBLISH
X-WR-CALNAME:Judiska museet
X-ORIGINAL-URL:https://judiskamuseet.se
X-WR-CALDESC:Händelser för Judiska museet
REFRESH-INTERVAL;VALUE=DURATION:PT1H
X-Robots-Tag:noindex
X-PUBLISHED-TTL:PT1H
BEGIN:VTIMEZONE
TZID:Europe/Stockholm
BEGIN:DAYLIGHT
TZOFFSETFROM:+0100
TZOFFSETTO:+0200
TZNAME:CEST
DTSTART:20260329T010000
END:DAYLIGHT
BEGIN:STANDARD
TZOFFSETFROM:+0200
TZOFFSETTO:+0100
TZNAME:CET
DTSTART:20261025T010000
END:STANDARD
END:VTIMEZONE
BEGIN:VEVENT
DTSTART;TZID=Europe/Stockholm:20260122T180000
DTEND;TZID=Europe/Stockholm:20260122T190000
DTSTAMP:20260425T191346
CREATED:20260112T131333Z
LAST-MODIFIED:20260119T082658Z
UID:15363-1769104800-1769108400@judiskamuseet.se
SUMMARY:En inblick i Sveriges första judiska församling
DESCRIPTION:Hur organiserades Sveriges första judiska församling och hur såg vardagen ut för människorna kring den i Gamla stan 1795-1870? \nI anslutning till utställningen Shul! Synagogan i Gamla stan bjuder Judiska museet in till ett samtal som ger nya perspektiv på tidig judisk historia i Sverige. Ett samtal för dig som vill förstå mer om människorna\, platsen och tiden bakom Sveriges äldsta bevarade synagogan. Samtalet tar sin utgångspunkt i den forskning och det källarbete som ligger till grund för utställningen. \nMedverkar gör Oren Cohen Roman\, lektor och specialist på jiddisch\, som arbetat nära materialet bakom utställningen\, samt Liri Tourgeman\, arkivarie på Judiska museet. Samtalet om människor\, språk och livsöden i det tidiga judiska Sverige leds av Natalie Bloch\, doktor i den hebreiska bibelns exegetik\, universitetslektor\, översättare och kulturskribent. \nVänligen observera att samtalet förs på engelska. \nTid: torsdag 22 januari\, kl. 18–19\nPlats: Själagårdsgatan 19 i Gamla stan \nDeltagande i detta program: 120 kr ordinarie\, 100 kr pensionär och student.\nAnmäl dig här! \nBild: Utställningsvy Shul! Synagogan i gamla stan\, foto: Karl Gabor. Natalie Bloch\, foto: Karl Gabor. Oren Cohen Roman\, foto: privat arkiv.  Liri Tourgeman\, foto: privat arkiv
URL:https://judiskamuseet.se/kalendarium/en-inblick-i-sveriges-forsta-judiska-forsamling/
CATEGORIES:Samtal
ATTACH;FMTTYPE=image/jpeg:https://judiskamuseet.se/wp-content/uploads/2026/01/22-jan.jpg
END:VEVENT
END:VCALENDAR