BEGIN:VCALENDAR
VERSION:2.0
PRODID:-//Judiska museet - ECPv6.4.0.1//NONSGML v1.0//EN
CALSCALE:GREGORIAN
METHOD:PUBLISH
X-ORIGINAL-URL:https://judiskamuseet.se
X-WR-CALDESC:Händelser för Judiska museet
REFRESH-INTERVAL;VALUE=DURATION:PT1H
X-Robots-Tag:noindex
X-PUBLISHED-TTL:PT1H
BEGIN:VTIMEZONE
TZID:Europe/Stockholm
BEGIN:DAYLIGHT
TZOFFSETFROM:+0100
TZOFFSETTO:+0200
TZNAME:CEST
DTSTART:20250330T010000
END:DAYLIGHT
BEGIN:STANDARD
TZOFFSETFROM:+0200
TZOFFSETTO:+0100
TZNAME:CET
DTSTART:20251026T010000
END:STANDARD
END:VTIMEZONE
BEGIN:VEVENT
DTSTART;TZID=Europe/Stockholm:20251218T180000
DTEND;TZID=Europe/Stockholm:20251218T190000
DTSTAMP:20260425T203557
CREATED:20251023T094537Z
LAST-MODIFIED:20251027T144531Z
UID:15114-1766080800-1766084400@judiskamuseet.se
SUMMARY:Svensk-judisk historia: Den svenska judiska guldåldern - och allt annat vi inte hunnit med
DESCRIPTION:Åtta avklarade programkvällar om svensk-judisk historia på ett år räcker inte! Vi behöver en extra kväll för att ta upp det som inte fått plats. Historikern Carl Henrik Carlsson vill berätta om den så kallade judiska guldåldern i slutet av 1800- och början av 1900-talet med dess många bidrag till det framväxande moderna Sverige. Seriens moderator Tobias Svanelid vill veta mer om vad som är unikt “svenskt” i den svenska-judiska historien. Hur skiljer den sig våra grannländer till exempel?    \nVad vill du veta mer om? Du kan skicka in din fråga om de mer än 250 åren av svensk-judisk historia till info@judiskamuseet.se i förväg\, senast den 10 december. \nTid: torsdag 18 december\, kl. 18–19 \nPlats: Själagårdsgatan 19 i Gamla stan \nAllt du velat veta (men aldrig vågat fråga) om svensk-judisk historia. Under nio torsdagskvällar under jubileumsåret 2025 sätter Judiska museet ljus på Sveriges judiska historia från Gustav Vasa till idag. Ciceroner är vetenskapsjournalisten Tobias Svanelid och historikern Carl Henrik Carlsson. Detta är det åttonde programmet i serien.\nLäs mer om hela programserien här! \nDeltagande i detta program: 100 kr ordinarie\, 80 kr pensionär och student. Betalas på plats med kort eller swish.\nAnmäl dig här! \nBild: Carl Henrik Carlsson\, foto: David Naylor. Tobias Svanelid\, foto: Sveriges Radio. Papperskonst av Alexander Nay. Strömparterren med café och många människor (beskuren). Verk ur Stadsmuseets samlingar\, Stockholm.
URL:https://judiskamuseet.se/kalendarium/svensk-judisk-historia-den-svenska-judiska-guldaldern-och-allt-annat-vi-inte-hunnit-med/
CATEGORIES:Program,Samtal
ATTACH;FMTTYPE=image/png:https://judiskamuseet.se/wp-content/uploads/2025/10/SJH-serie-9.png
END:VEVENT
END:VCALENDAR