BEGIN:VCALENDAR
VERSION:2.0
PRODID:-//Judiska museet - ECPv6.4.0.1//NONSGML v1.0//EN
CALSCALE:GREGORIAN
METHOD:PUBLISH
X-WR-CALNAME:Judiska museet
X-ORIGINAL-URL:https://judiskamuseet.se
X-WR-CALDESC:Händelser för Judiska museet
REFRESH-INTERVAL;VALUE=DURATION:PT1H
X-Robots-Tag:noindex
X-PUBLISHED-TTL:PT1H
BEGIN:VTIMEZONE
TZID:Europe/Stockholm
BEGIN:DAYLIGHT
TZOFFSETFROM:+0100
TZOFFSETTO:+0200
TZNAME:CEST
DTSTART:20250330T010000
END:DAYLIGHT
BEGIN:STANDARD
TZOFFSETFROM:+0200
TZOFFSETTO:+0100
TZNAME:CET
DTSTART:20251026T010000
END:STANDARD
END:VTIMEZONE
BEGIN:VEVENT
DTSTART;VALUE=DATE:20250206
DTEND;VALUE=DATE:20251212
DTSTAMP:20260425T221111
CREATED:20241230T112221Z
LAST-MODIFIED:20251023T123625Z
UID:14092-1738800000-1765497599@judiskamuseet.se
SUMMARY:Programserie: Åtta samtal om svensk-judisk historia
DESCRIPTION:Allt du velat veta (men aldrig vågat fråga) om svensk-judisk historia! Under åtta torsdagskvällar under jubileumsåret 2025 sätter vi ljus på Sveriges judiska historia från Gustav Vasa till idag. Ciceroner är vetenskapsjournalisten Tobias Svanelid och historikern Carl Henrik Carlsson.  \n6 februari\, kl. 18–19\nEn okänd historia – de tidigaste spåren av judiskt liv \n9 april\, kl. 18–19\nEn fri Religions-öfning i Riket – de första judarna som fick stanna \n24 april\, kl. 18–19\nNya rättigheter och en ny judendom – frigörelse och reform \n15 maj\, kl. 18–19\nJudiska Karl-Oskar och Kristina –  den östjudiska invandringen \n11 september\, kl. 18–19\nDet stängda Sverige – 1930-talet och krigsåren \n16 oktober\, kl. 18–19\nI spillrorna av en förlorad värld – judiskt liv efter Förintelsen \n13 november\, kl. 18–19\nSena 1900-talet förföljelser – nya grupper söker skydd \n11 december\, kl. 18–19\nHär är vi nu – hur kommer framtiden beskriva dagens svenska judiska liv? \nextra kväll: 18 december\, kl. 18–19\nDen svenska judiska guldåldern – och allt annat vi inte hunnit med \nDeltagande i ett program (läs mer på respektive programs sida): 100 kr ordinarie\, 80 kr pensionär och student.  \nBild: Carl Henrik Carlsson\, foto: David Naylor. Tobias Svanelid\, foto: Sveriges radio. Detalj från vykort av Sabbatsljusen välsignas (1898) av Geskel Saloman.
URL:https://judiskamuseet.se/kalendarium/programserie-atta-samtal-om-svensk-judisk-historia/
CATEGORIES:Program,Samtal
ATTACH;FMTTYPE=image/jpeg:https://judiskamuseet.se/wp-content/uploads/2024/12/SJH-scaled.jpg
END:VEVENT
BEGIN:VEVENT
DTSTART;TZID=Europe/Stockholm:20251016T180000
DTEND;TZID=Europe/Stockholm:20251016T190000
DTSTAMP:20260425T221111
CREATED:20241230T113033Z
LAST-MODIFIED:20250402T110150Z
UID:14079-1760637600-1760641200@judiskamuseet.se
SUMMARY:Svensk-judisk historia: I spillrorna av en förlorad värld – judiskt liv efter Förintelsen
DESCRIPTION:Under slutet av och efter andra världskriget tog Sverige emot många överlevande judar. Först var Sveriges tänkt som ett transitland men många blev kvar här. Den svenska industrin skrek efter arbetskraft och ett nytt judiskt liv växte fram i städer som Uppsala\, Västerås\, Jönköping och Borås. Lär dig mer om det samhälle som mötte de judar som kom hit efter Förintelsen och om det nya judiska liv som växte fram i Sverige efter kriget. \nTid: torsdag 16 oktober\, kl. 18–19 \nPlats: Själagårdsgatan 19 i Gamla stan \nAllt du velat veta (men aldrig vågat fråga) om svensk-judisk historia. Under åtta torsdagskvällar under jubileumsåret 2025 sätter Judiska museet ljus på Sveriges judiska historia från Gustav Vasa till idag. Ciceroner är vetenskapsjournalisten Tobias Svanelid och historikern Carl Henrik Carlsson. Detta är det sjätte programmet i serien.\nLäs mer om hela programserien här! \nDeltagande i detta program: 100 kr ordinarie\, 80 kr pensionär och student. Betalas på plats med kort eller swish.\nAnmäl dig här! \nBild: Carl Henrik Carlsson\, foto: David Naylor. Tobias Svanelid\, foto: Sveriges radio. Ensembel som framför Mordecai Husids pjäs ”A Gefeferte Megile” för Förintelsens överlevande runt om i Sverige. Dekoren tillverkades i Isaac Grünewalds ateljé. Fotograf: Anna Riwkin-Brick.
URL:https://judiskamuseet.se/kalendarium/svensk-judisk-historia-i-spillrorna-av-en-forlorad-varld-judiskt-liv-efter-forintelsen/
CATEGORIES:Program,Samtal
ATTACH;FMTTYPE=image/jpeg:https://judiskamuseet.se/wp-content/uploads/2024/12/SJH-serie-6-scaled.jpg
END:VEVENT
END:VCALENDAR