BEGIN:VCALENDAR
VERSION:2.0
PRODID:-//Judiska museet - ECPv6.4.0.1//NONSGML v1.0//EN
CALSCALE:GREGORIAN
METHOD:PUBLISH
X-WR-CALNAME:Judiska museet
X-ORIGINAL-URL:https://judiskamuseet.se
X-WR-CALDESC:Händelser för Judiska museet
REFRESH-INTERVAL;VALUE=DURATION:PT1H
X-Robots-Tag:noindex
X-PUBLISHED-TTL:PT1H
BEGIN:VTIMEZONE
TZID:Europe/Stockholm
BEGIN:DAYLIGHT
TZOFFSETFROM:+0100
TZOFFSETTO:+0200
TZNAME:CEST
DTSTART:20240331T010000
END:DAYLIGHT
BEGIN:STANDARD
TZOFFSETFROM:+0200
TZOFFSETTO:+0100
TZNAME:CET
DTSTART:20241027T010000
END:STANDARD
END:VTIMEZONE
BEGIN:VEVENT
DTSTART;VALUE=DATE:20240625
DTEND;VALUE=DATE:20240902
DTSTAMP:20260425T121752
CREATED:20240611T091929Z
LAST-MODIFIED:20240822T111221Z
UID:13465-1719273600-1725235199@judiskamuseet.se
SUMMARY:Sommarens visningar
DESCRIPTION:Förgyll din sommar med det svensk-judiska kulturarvet! Kom till Judiska museet\, upplev Sveriges äldsta bevarade synagoga och lär dig mer om den svensk-judiska historien. \nFrån den 25 juni till 1 september erbjuder vi visning på svenska kl. 12 och på engelska kl. 14 varje dag\, förutom måndagar då museet är stängt. \nUnder visningen berättar vi mer om den gamla synagogan och livet som utspelade sig här. Vi tar med besökaren på en resa genom den svensk-judiska historien från slutet av 1700-talet till efterkrigstiden. \nVisningen tar ca 30 min och ingår i entrén. \nÖppettider och mer information
URL:https://judiskamuseet.se/kalendarium/sommarens-visningar/
CATEGORIES:Familjevisning
ATTACH;FMTTYPE=image/jpeg:https://judiskamuseet.se/wp-content/uploads/2024/06/sommar.jpg
END:VEVENT
BEGIN:VEVENT
DTSTART;TZID=Europe/Stockholm:20240901T130000
DTEND;TZID=Europe/Stockholm:20240901T140000
DTSTAMP:20260425T121752
CREATED:20240814T071651Z
LAST-MODIFIED:20240814T071651Z
UID:13753-1725195600-1725199200@judiskamuseet.se
SUMMARY:Europeiska judiska kulturdagen: Familjevisning om judiska högtider
DESCRIPTION:Välkomna till Judiska museet på Europeiska judiska kulturdagen! Då blir det en specialvisning med fokus på judiska traditioner och högtider för hela familjen. \nTid: Söndag 1 september\, kl. 13\nPlats: Judiska museet\, Själagårdsgatan 19 i Gamla stan \nEuropeiska dagen för judisk kultur är ett evenemang som firas i flera länder i Europa. Vi på Judiska museet uppmärksammar dagen med en specialvisning för familjer med fokus på judiska högtider. Vi berättar om de största högtiderna och de traditioner som hör till. Och bjuder på judiska högtidssnacks! \nVisningen tar ca 60 min och ingår i museets entré: 100 kr ordinarie\, 80 kr pensionär och student. Betalas på plats med kort eller swish. Ingen anmälan behövs.
URL:https://judiskamuseet.se/kalendarium/europeiska-judiska-kulturdagen-familjevisning-om-judiska-hogtider/
CATEGORIES:Familjevisning
ATTACH;FMTTYPE=image/jpeg:https://judiskamuseet.se/wp-content/uploads/2022/12/roshhashana1.jpg
END:VEVENT
END:VCALENDAR